BEGIN:VCALENDAR
VERSION:2.0
PRODID:-//kommunaljutsu.org//NONSGML v1.0//EN
METHOD:PUBLISH
CALSCALE:GREGORIAN
BEGIN:VEVENT
UID:https://www.nestelbach-graz.gv.at/?post_type=muelltermin&#038;p=9
 733
DTSTAMP:20260421T102849Z
DTSTART;VALUE=DATE:20260508
DTEND;VALUE=DATE:20260509
LOCATION:
DESCRIPTION:
URL;VALUE=URI:
SUMMARY:Sperrmüll - Nur mit Terminvereinbarung unter 03133/ 22 08
BEGIN:VALARM
TRIGGER;VALUE=DATE-TIME:20260507T130000Z
ACTION:DISPLAY
DESCRIPTION:ALARM
END:VALARM
END:VEVENT
END:VCALENDAR
