BEGIN:VCALENDAR
VERSION:2.0
PRODID:-//kommunaljutsu.org//NONSGML v1.0//EN
METHOD:PUBLISH
CALSCALE:GREGORIAN
BEGIN:VEVENT
UID:https://www.nestelbach-graz.gv.at/veranstaltungen/gemeindeamt-ges
 chlossen-2/
DTSTAMP:20260423T170619Z
DTSTART:20260604T220000Z
DTEND:20260604T220000Z
LOCATION:
DESCRIPTION:Das Gemeindeamt ist am 05.06.2026 geschlossen!\n
URL;VALUE=URI:
SUMMARY:gemeindeamt-geschlossen-2
BEGIN:VALARM
TRIGGER;VALUE=DATE-TIME:20260604T130000Z
ACTION:DISPLAY
DESCRIPTION:ALARM
END:VALARM
END:VEVENT
END:VCALENDAR
