BEGIN:VCALENDAR
VERSION:2.0
PRODID:-//kommunaljutsu.org//NONSGML v1.0//EN
METHOD:PUBLISH
CALSCALE:GREGORIAN
BEGIN:VEVENT
UID:https://www.nestelbach-graz.gv.at/veranstaltungen/gemeindeamt-ges
 chlossen/
DTSTAMP:20260423T171049Z
DTSTART:20260514T220000Z
DTEND:20260514T220000Z
LOCATION:
DESCRIPTION:Das Gemeindeamt ist am 15.05.2026 geschlossen!\n
URL;VALUE=URI:
SUMMARY:gemeindeamt-geschlossen
BEGIN:VALARM
TRIGGER;VALUE=DATE-TIME:20260514T130000Z
ACTION:DISPLAY
DESCRIPTION:ALARM
END:VALARM
END:VEVENT
END:VCALENDAR
