BEGIN:VCALENDAR
VERSION:2.0
PRODID:-//kommunaljutsu.org//NONSGML v1.0//EN
METHOD:PUBLISH
CALSCALE:GREGORIAN
BEGIN:VEVENT
UID:https://www.nestelbach-graz.gv.at/veranstaltungen/maibaumaufstell
 en-2026/
DTSTAMP:20260420T134606Z
DTSTART:20260430T130000Z
DTEND:20260430T200000Z
LOCATION:
DESCRIPTION:Maibaumaufstellen 2026\n
URL;VALUE=URI:
SUMMARY:maibaumaufstellen-2026
BEGIN:VALARM
TRIGGER;VALUE=DATE-TIME:20260429T130000Z
ACTION:DISPLAY
DESCRIPTION:ALARM
END:VALARM
END:VEVENT
END:VCALENDAR
