BEGIN:VCALENDAR
VERSION:2.0
PRODID:-//kommunaljutsu.org//NONSGML v1.0//EN
METHOD:PUBLISH
CALSCALE:GREGORIAN
BEGIN:VEVENT
UID:https://www.nestelbach-graz.gv.at/veranstaltungen/pflanzentauschb
 oerse/
DTSTAMP:20260423T135653Z
DTSTART:20260503T070000Z
DTEND:20260503T090000Z
LOCATION:
DESCRIPTION:A4_Pl.PflanzenTauschBörse_26\n
URL;VALUE=URI:
SUMMARY:pflanzentauschboerse
BEGIN:VALARM
TRIGGER;VALUE=DATE-TIME:20260502T130000Z
ACTION:DISPLAY
DESCRIPTION:ALARM
END:VALARM
END:VEVENT
END:VCALENDAR
